nrows 586
ncols 1383
nbands 1
nbits 8
byteorder I
layout bsq
ulxmap -17321659.7750
ulymap 7332251.0625
xdim 25067.525
ydim 25067.525
